BEGIN:VCALENDAR
VERSION:2.0
PRODID:-//Eurescom GmbH - ECPv6.15.20//NONSGML v1.0//EN
CALSCALE:GREGORIAN
METHOD:PUBLISH
X-WR-CALNAME:Eurescom GmbH
X-ORIGINAL-URL:https://www.eurescom.eu
X-WR-CALDESC:Events for Eurescom GmbH
REFRESH-INTERVAL;VALUE=DURATION:PT1H
X-Robots-Tag:noindex
X-PUBLISHED-TTL:PT1H
BEGIN:VTIMEZONE
TZID:Europe/Berlin
BEGIN:DAYLIGHT
TZOFFSETFROM:+0100
TZOFFSETTO:+0200
TZNAME:CEST
DTSTART:20240331T010000
END:DAYLIGHT
BEGIN:STANDARD
TZOFFSETFROM:+0200
TZOFFSETTO:+0100
TZNAME:CET
DTSTART:20241027T010000
END:STANDARD
BEGIN:DAYLIGHT
TZOFFSETFROM:+0100
TZOFFSETTO:+0200
TZNAME:CEST
DTSTART:20250330T010000
END:DAYLIGHT
BEGIN:STANDARD
TZOFFSETFROM:+0200
TZOFFSETTO:+0100
TZNAME:CET
DTSTART:20251026T010000
END:STANDARD
BEGIN:DAYLIGHT
TZOFFSETFROM:+0100
TZOFFSETTO:+0200
TZNAME:CEST
DTSTART:20260329T010000
END:DAYLIGHT
BEGIN:STANDARD
TZOFFSETFROM:+0200
TZOFFSETTO:+0100
TZNAME:CET
DTSTART:20261025T010000
END:STANDARD
END:VTIMEZONE
BEGIN:VEVENT
DTSTART;VALUE=DATE:20250519
DTEND;VALUE=DATE:20250523
DTSTAMP:20260424T210910
CREATED:20240912T133002Z
LAST-MODIFIED:20240912T133017Z
UID:8416-1747612800-1747958399@www.eurescom.eu
SUMMARY:IEEE-INFOCOM: International Conference on Computer Communications
DESCRIPTION:Venue: London\, United Kingdom \nIEEE INFOCOM is a top-ranked conference on networking in the research community. It is a major conference venue for researchers to present and exchange significant and innovative contributions and ideas in the field of networking and closely related areas. IEEE INFOCOM covers both theoretical and systems research. For INFOCOM 2025\, the conference includes a main technical program\, a number of workshops\, a keynote speech\, panels\, a student poster session\, and demo/poster sessions. \n  \nMore information: https://infocom2025.ieee-infocom.org/ 
URL:https://www.eurescom.eu/event/ieee-infocom-international-conference-on-computer-communications/
ATTACH;FMTTYPE=image/png:https://www.eurescom.eu/wp-content/uploads/2024/09/IEEEINFOCOM2025.png
END:VEVENT
BEGIN:VEVENT
DTSTART;VALUE=DATE:20250526
DTEND;VALUE=DATE:20250530
DTSTAMP:20260424T210910
CREATED:20240916T143323Z
LAST-MODIFIED:20240916T143455Z
UID:8444-1748217600-1748563199@www.eurescom.eu
SUMMARY:IEEE International Conference on Machine Learning for Communication and Networking - 26–29 May 2025 // Barcelona\, Spain
DESCRIPTION:26–29 May 2025 // Barcelona\, Spain\n\n\n\n\n\nCall for Special Session and Tutorial Proposals\n\n\nThe 2025 IEEE ICMLCN is now accepting submissions for special session and tutorial proposals through EDAS. For more information regarding the submission process and guidelines for special session proposals\, please click here. And for tutorial proposals\, please\, click \n\n\n\n\nCall for Papers\n\n\nThe 2025 IEEE ICMLCN is now accepting paper submissions through EDAS. For more information regarding the submission process and guidelines for papers\, please click here. \n  \n\nImportant Dates\nPaper Submissions:\n31 October 2024 \nSpecial Session Proposals:\n31 October 2024 \nDemo Proposals:\n13 December 2024 \nTutorial Proposal:\n13 December 2024 \nIndustry Panel Proposals:\n13 December 2024 \nAcceptance Notification:\n31 January 2025 \nCamera-Ready:\n14 February 2025
URL:https://www.eurescom.eu/event/ieee-international-conference-on-machine-learning-for-communication-and-networking-26-29-may-2025-barcelona-spain/
ATTACH;FMTTYPE=image/png:https://www.eurescom.eu/wp-content/uploads/2024/09/IEEE-International-Conference-on-Machine-Learning-for-Communication-and-Networking-26–29-May-2025-Barcelona-Spain-e1726497167180.png
END:VEVENT
END:VCALENDAR