BEGIN:VCALENDAR
VERSION:2.0
PRODID:-//Eurescom GmbH - ECPv6.15.20//NONSGML v1.0//EN
CALSCALE:GREGORIAN
METHOD:PUBLISH
X-WR-CALNAME:Eurescom GmbH
X-ORIGINAL-URL:https://www.eurescom.eu
X-WR-CALDESC:Events for Eurescom GmbH
REFRESH-INTERVAL;VALUE=DURATION:PT1H
X-Robots-Tag:noindex
X-PUBLISHED-TTL:PT1H
BEGIN:VTIMEZONE
TZID:Europe/Berlin
BEGIN:DAYLIGHT
TZOFFSETFROM:+0100
TZOFFSETTO:+0200
TZNAME:CEST
DTSTART:20240331T010000
END:DAYLIGHT
BEGIN:STANDARD
TZOFFSETFROM:+0200
TZOFFSETTO:+0100
TZNAME:CET
DTSTART:20241027T010000
END:STANDARD
BEGIN:DAYLIGHT
TZOFFSETFROM:+0100
TZOFFSETTO:+0200
TZNAME:CEST
DTSTART:20250330T010000
END:DAYLIGHT
BEGIN:STANDARD
TZOFFSETFROM:+0200
TZOFFSETTO:+0100
TZNAME:CET
DTSTART:20251026T010000
END:STANDARD
BEGIN:DAYLIGHT
TZOFFSETFROM:+0100
TZOFFSETTO:+0200
TZNAME:CEST
DTSTART:20260329T010000
END:DAYLIGHT
BEGIN:STANDARD
TZOFFSETFROM:+0200
TZOFFSETTO:+0100
TZNAME:CET
DTSTART:20261025T010000
END:STANDARD
END:VTIMEZONE
BEGIN:VEVENT
DTSTART;VALUE=DATE:20250603
DTEND;VALUE=DATE:20250607
DTSTAMP:20260424T195427
CREATED:20240903T101640Z
LAST-MODIFIED:20240903T102003Z
UID:8385-1748908800-1749254399@www.eurescom.eu
SUMMARY:EuCNC & 6G SUMMIT 2025 in Poznan\, Poland – 3 to 6 June 2025
DESCRIPTION:The 2025 EuCNC & 6G Summit builds on putting together two successful conferences in the area of telecommunications: EuCNC\, in its 34th edition of a series\, supported by the European Commission; the 6G Summit\, in its 7h edition\, originated from the 6G Flagship programme in Finland\, one of the very first in its area. The conference is sponsored by the IEEE Communications Society (ComSoc)\, the European Association for Signal Processing (EURASIP) and the European Association on Antennas and Propagation (EurAAP) and supported by the European Commission. The conference addresses various aspects of Beyond 5G/6G communications systems and networks. It brings together cutting-edge research and world-renown industries and businesses\, globally attracting in the last years close to 900 delegates from more than 40 countries all over the world\, to present and discuss the latest results\, and an exhibition with more than 50 exhibitors\, for demonstrating the technology developed in the area\, namely within research projects from EU R&I programmes. \nThe conference program will include: \n\nKeynotes\nPanels\nRegular sessions (papers from open call\, to be submitted for uploading to IEEE Xplore)\nSpecial and Convened sessions\, with papers on specific topics\nWorkshops\, with papers and presentations on specific topics\nPoster sessions (extended abstracts from open call addressing the latest results)\nTutorials\nDemos and exhibitions\, with pitches\n\nKey dates:\n\n26 Jan. 2025 –   Deadline for submission of papers for regular oral sessions\n26 Jan. 2025 –   Deadline for submission of proposals for workshops\, special sessions and tutorials\n07 Mar. 2025 –   Deadline for submission of extended abstracts for posters\n07 Mar. 2025 –   Notification of acceptance of workshops\, special sessions       and tutorials\n28 Mar. 2025 –   Deadline for submission of proposals for exhibitions\n01 Apr. 2025  –   Notification of acceptance of papers and extended     abstracts\n11 Apr. 2025 –   Deadline for final papers for all sessions and workshops\n18 Apr. 2025 – Deadline for authors registration\n25 Apr. 2025 –   Draft programme available\n\n\n\n\n\n\n\n\n\n\nSteering Committee Chairs\nLuis M. Correia\, IST – U. Lisbon\, PT (Chair)\nPavlos Fournogerakis\, SNS JU\, BE (Vice-Chair)\nMatti Latva-aho\, U. Oulu – 6G Flagship\, FI (Vice-Chair)\nTechnical Programme Co-Chairs\nHanna Bogucka\, PUT\, PL\nPawel Kryszkiewicz\, PUT\, PL\nAri Pouttu\, U. Oulu – 6G Flagship\, FI\nTrack Co-Chairs\nPHY – Physical Layer and Fundamentals\nTony Quek\, SUTD\, SG\nEduard Jorswieck\, TU Braunschweig\, DE\nMikko Uusitalo\, Nokia Bell Labs\, FI\nWOS – Wireless\, Optical and Satellite Networks\nZheng Chang\, UESTC\, CN\nDimitrios Apostolopoulos\, NTUA\, GR\nEva Lagunas\, U. Luxembourg\, LU\nNET – Network Softwarisation\nToktam Mahmoodi\, KCL\, UK\nSinem Coreli\, Koc University\, TR\nKonstantin Mikhaylov\, U. Oulu\, FI\nAIU – Applications\, IoT\, Use cases\nPeriklis Chatzimisios\, IHU\, GR- UNM\, USA\nMargot Deruyck\, U. Ghent-IMEC\, BE\nHirozumi Yamaguchi\, U. Osaka\, JP\nOPE – Operational & Experimental Insights\nLeon Wong\, Rakuten Mobile\, JP\nFlorian Kaltenberger\, Eurecom\, FR\nJerzy Domżał\, AGH\, PL\nAI4C – AI/ML Solutions for Communications\nKatarzyna Kosek-Szott\, AGH\, PL\nMichele Polese\, Northeastern University\, USA\nHaris Gačanin\, RWTH Aachen\, DE\nSAQ – Security Aspects and Quantum Communications\nVishnu Ram\, Consultant (ITU)\, IN\nPiotr Rydlichowski\, PSNC\, PL\nMarco Chiani\, UNIBO\, IT\nCMA – Components\, Microelectronics\, Photonics & Antennas\nQin Wang\, RISE\, SE\nIzzat Darwazeh\, UCL\, UK\nSudhir Dixit\, IISc\, IN\nNVS – Next-Generation Visions & Sustainability\nMarja Matinmikko-Blue\, U. Oulu – 6G Flagship\, FI\nJaap van de Beek\, LTU\, SE\nVolker Ziegler\, Nokia Bell Labs\, DE \n\n\n\n\n\n\n\nPanels Co-Chairs\nHamed Ahmadi\, U. York\, UK\nChristina Lessi\, OTE\, GR\nSpecial Sessions Co-Chairs\nAlexander Wyglinski\, WPI\, USA\nXueli An\, Huawei\, DE\nSławomir Ambroziak\, PG\, PL\nWorkshops Co-Chairs\nAna García Armada\, UC3M\, ES\nSalvatore D’Oro\, Northeastern U.\, USA\nAydin Sezgin\, RUB\, DE\nTutorials Co-Chairs\nPiotr Zwierzykowski\, PUT\, PL\nMarkku Juntti\, U. Oulu\, FI\nSławomir Stańczak\, TU Berlin\, DE\nPatronage Co-Chairs\nKrzysztof Cichoń\, PUT\, PL\nJordi Mongay Batalla\, PW\, PL\nSlawomir Ambroziak\, PG\, PL\nEsa Posio\, U. Oulu\, FI\nExhibitions Co-Chairs\nMarcin Rodziewicz\, PUT\, PL\nMichael Dieudonne\, Keysight\, BE\nIEEE ComSoc Liaison\nStefano Bregni\, POLIMI\, IT\nCOST Liaison\nRalph Stübner\, COST\, BE\nURSI Liaison\nSana Salous\, Durham U.\, UK\nEurAAP Liaison\nJose Molina Garcia Pardo\, U. Cartagena\, ES
URL:https://www.eurescom.eu/event/eucnc-6g-summit-2025-in-poznan-poland-3-to-6-june-2025/
ATTACH;FMTTYPE=image/png:https://www.eurescom.eu/wp-content/uploads/2024/09/eucnc-2025-1-e1725358549121.png
END:VEVENT
BEGIN:VEVENT
DTSTART;VALUE=DATE:20250610
DTEND;VALUE=DATE:20250614
DTSTAMP:20260424T195427
CREATED:20240912T133441Z
LAST-MODIFIED:20240912T133441Z
UID:8420-1749513600-1749859199@www.eurescom.eu
SUMMARY:The 33 Mediterranean Conference on Control and Automation
DESCRIPTION:The 33rd Mediterranean Conference on Control and Automation\, MED 25 an annual event organized under the auspices of the Mediterranean Control Association (MCA)\, and the technical support of IEEE Control System Society (CSS)\, IEEE Robotics and Automation Society (RAS)\, to take  place in Tangier\, Morocco\, on 23-25 June 2025. \nThe conference will  be preceded by a one day of workshops and tutorial\, on 22 June 2025. \nWebsite: https://med2025.org/ \nIMPORTANT DATES \n\n03 FEBRUARY 2025: DEADLINE of submission\n07 APRIL 2025: Acceptance / rejection notification\n05 MAY 2025: Upload final\, camera-ready papers\n07 APRIL TO 12 MAY 2025: Early registration\n10 JUNE 2025: WORKSHOP\n11 TO 13 JUNE: Conference\n\n  \nSUBMISSION \nPAPERS: The paper format must follow IEEE paper submission rules\, two-column format using 10-point font\, Times New Roman or similar. The maximum number of pages per submitted paper is six (6). Up to two (2) additional pages will be permitted for an additional charge. Illustrations and references are included in the page count. \nINVITED SESSIONS: Proposals for invited sessions should contain a summary statement describing the motivation and relevance of the proposed session\, the invited paper titles and the names of the authors. Authors must submit FULL invited papers. Each paper must be marked as “Invited Session Paper”. \nWORKSHOPS AND TUTORIALS: Proposals for workshops and tutorials should contain title\, list of speakers\, and extended summaries (2000 words) of their presentations. \nAll contributions (papers\, invited papers\, proposals for invited sessions\, workshops\, and tutorials) must be submitted electronically through https://controls.papercept.net by February 3\, 2025. \nREVIEW: All submitted papers will undergo a peer review process coordinated by the Program Chairs\, Advisory Committee Members\, IPC members and qualified reviewers. Authors will be notified of results at the latest by April 7\, 2025. Accepted papers must be uploaded electronically no later than May 12\, 2025.
URL:https://www.eurescom.eu/event/the-33-mediterranean-conference-on-control-and-automation/
ATTACH;FMTTYPE=image/png:https://www.eurescom.eu/wp-content/uploads/2024/09/33rd-conference-automation-and-control-2025.png
END:VEVENT
END:VCALENDAR